BEGIN:VCALENDAR
VERSION:2.0
PRODID:-//IVMGLOBAL - ECPv6.15.16//NONSGML v1.0//EN
CALSCALE:GREGORIAN
METHOD:PUBLISH
X-WR-CALNAME:IVMGLOBAL
X-ORIGINAL-URL:https://www.ivmglobal.fi
X-WR-CALDESC:Tapahtumat IVMGLOBAL
REFRESH-INTERVAL;VALUE=DURATION:PT1H
X-Robots-Tag:noindex
X-PUBLISHED-TTL:PT1H
BEGIN:VTIMEZONE
TZID:Europe/Helsinki
BEGIN:DAYLIGHT
TZOFFSETFROM:+0200
TZOFFSETTO:+0300
TZNAME:EEST
DTSTART:20250330T010000
END:DAYLIGHT
BEGIN:STANDARD
TZOFFSETFROM:+0300
TZOFFSETTO:+0200
TZNAME:EET
DTSTART:20251026T010000
END:STANDARD
BEGIN:DAYLIGHT
TZOFFSETFROM:+0200
TZOFFSETTO:+0300
TZNAME:EEST
DTSTART:20260329T010000
END:DAYLIGHT
BEGIN:STANDARD
TZOFFSETFROM:+0300
TZOFFSETTO:+0200
TZNAME:EET
DTSTART:20261025T010000
END:STANDARD
BEGIN:DAYLIGHT
TZOFFSETFROM:+0200
TZOFFSETTO:+0300
TZNAME:EEST
DTSTART:20270328T010000
END:DAYLIGHT
BEGIN:STANDARD
TZOFFSETFROM:+0300
TZOFFSETTO:+0200
TZNAME:EET
DTSTART:20271031T010000
END:STANDARD
END:VTIMEZONE
BEGIN:VEVENT
DTSTART;TZID=Europe/Helsinki:20260421T190000
DTEND;TZID=Europe/Helsinki:20260421T200000
DTSTAMP:20260421T105513
CREATED:20260207T194501Z
LAST-MODIFIED:20260412T115113Z
UID:1357-1776798000-1776801600@www.ivmglobal.fi
SUMMARY:Tampere OBM - Peruttu - Vaula Hki
DESCRIPTION:You need to be logged in to view this content. Please Log In. Eikö sinulla ole tunnuksia? Luo tunnukset täällä
URL:https://www.ivmglobal.fi/event/tampere-obm-peruttu-vaula-hki/
CATEGORIES:OBM/NDO
END:VEVENT
BEGIN:VEVENT
DTSTART;TZID=Europe/Helsinki:20260421T190000
DTEND;TZID=Europe/Helsinki:20260421T220000
DTSTAMP:20260421T105513
CREATED:20260207T193947Z
LAST-MODIFIED:20260306T104453Z
UID:1351-1776798000-1776808800@www.ivmglobal.fi
SUMMARY:Helsinki OBM+NDO - Timantti Vaula McDermott
DESCRIPTION:You need to be logged in to view this content. Please Log In. Eikö sinulla ole tunnuksia? Luo tunnukset täällä
URL:https://www.ivmglobal.fi/event/helsinki-obmndo-timantti-vaula-mcdermott/
LOCATION:Mäkelän koulu (Helsinki)\, Hattulantie 2\, Helsinki\, Finland
CATEGORIES:OBM/NDO
END:VEVENT
BEGIN:VEVENT
DTSTART;TZID=Europe/Helsinki:20260422T190000
DTEND;TZID=Europe/Helsinki:20260422T200000
DTSTAMP:20260421T105513
CREATED:20251212T174145Z
LAST-MODIFIED:20251212T174145Z
UID:1220-1776884400-1776888000@www.ivmglobal.fi
SUMMARY:Oulu OBM
DESCRIPTION:You need to be logged in to view this content. Please Log In. Eikö sinulla ole tunnuksia? Luo tunnukset täällä
URL:https://www.ivmglobal.fi/event/oulu-obm-4/
LOCATION:ABC Tupos\, Tuposkorva 1\, Liminka\, Finland
CATEGORIES:OBM/NDO
END:VEVENT
BEGIN:VEVENT
DTSTART;TZID=Europe/Helsinki:20260422T190000
DTEND;TZID=Europe/Helsinki:20260422T200000
DTSTAMP:20260421T105513
CREATED:20260308T155825Z
LAST-MODIFIED:20260308T155825Z
UID:1435-1776884400-1776888000@www.ivmglobal.fi
SUMMARY:Salo OBM
DESCRIPTION:You need to be logged in to view this content. Please Log In. Eikö sinulla ole tunnuksia? Luo tunnukset täällä
URL:https://www.ivmglobal.fi/event/salo-obm-8/
LOCATION:Salon VPK talo\, Asemakatu 3\, Salo\, Finland
CATEGORIES:OBM/NDO
END:VEVENT
BEGIN:VEVENT
DTSTART;TZID=Europe/Helsinki:20260426T100000
DTEND;TZID=Europe/Helsinki:20260426T123000
DTSTAMP:20260421T105513
CREATED:20260419T175433Z
LAST-MODIFIED:20260419T185812Z
UID:1498-1777197600-1777206600@www.ivmglobal.fi
SUMMARY:Nutriway Module 1 - Zoom
DESCRIPTION:You need to be logged in to view this content. Please Log In. Eikö sinulla ole tunnuksia? Luo tunnukset täällä
URL:https://www.ivmglobal.fi/event/nutriway-module-1-zoom-3/
CATEGORIES:Nutriway
END:VEVENT
BEGIN:VEVENT
DTSTART;TZID=Europe/Helsinki:20260428T080000
DTEND;TZID=Europe/Helsinki:20260428T170000
DTSTAMP:20260421T105513
CREATED:20260207T194100Z
LAST-MODIFIED:20260207T194100Z
UID:1353-1777363200-1777395600@www.ivmglobal.fi
SUMMARY:Helsinki OBM - peruttu
DESCRIPTION:You need to be logged in to view this content. Please Log In. Eikö sinulla ole tunnuksia? Luo tunnukset täällä
URL:https://www.ivmglobal.fi/event/helsinki-obm-peruttu/
CATEGORIES:OBM/NDO
END:VEVENT
BEGIN:VEVENT
DTSTART;TZID=Europe/Helsinki:20260429T190000
DTEND;TZID=Europe/Helsinki:20260429T200000
DTSTAMP:20260421T105513
CREATED:20260308T160434Z
LAST-MODIFIED:20260308T160434Z
UID:1445-1777489200-1777492800@www.ivmglobal.fi
SUMMARY:Raisio OBM
DESCRIPTION:You need to be logged in to view this content. Please Log In. Eikö sinulla ole tunnuksia? Luo tunnukset täällä
URL:https://www.ivmglobal.fi/event/raisio-obm-8/
LOCATION:ABC Raisio\, Piilipuunkatu 2\, Piilipuunkatu 2\, Raisio\, Finland
CATEGORIES:OBM/NDO
END:VEVENT
BEGIN:VEVENT
DTSTART;TZID=Europe/Helsinki:20260429T190000
DTEND;TZID=Europe/Helsinki:20260429T200000
DTSTAMP:20260421T105513
CREATED:20260309T063941Z
LAST-MODIFIED:20260419T175536Z
UID:1459-1777489200-1777492800@www.ivmglobal.fi
SUMMARY:Vaasa OBM
DESCRIPTION:You need to be logged in to view this content. Please Log In. Eikö sinulla ole tunnuksia? Luo tunnukset täällä
URL:https://www.ivmglobal.fi/event/vaasa-obm-smaragdi-irma-lund-4/
LOCATION:ABC Airport (Vaasa)\, Kiitokaari 2\, Vaasa
CATEGORIES:OBM/NDO
END:VEVENT
BEGIN:VEVENT
DTSTART;TZID=Europe/Helsinki:20260430T190000
DTEND;TZID=Europe/Helsinki:20260430T200000
DTSTAMP:20260421T105513
CREATED:20260207T195511Z
LAST-MODIFIED:20260305T133740Z
UID:1364-1777575600-1777579200@www.ivmglobal.fi
SUMMARY:Kouvola OBM - peruttu - vappuaatto
DESCRIPTION:You need to be logged in to view this content. Please Log In. Eikö sinulla ole tunnuksia? Luo tunnukset täällä
URL:https://www.ivmglobal.fi/event/kouvola-obm-9/
LOCATION:Keltakankaan ABC\, Hallitie 2\, Kouvola\, Finland
CATEGORIES:OBM/NDO
END:VEVENT
BEGIN:VEVENT
DTSTART;TZID=Europe/Helsinki:20260504T190000
DTEND;TZID=Europe/Helsinki:20260504T200000
DTSTAMP:20260421T105513
CREATED:20260308T153437Z
LAST-MODIFIED:20260308T153437Z
UID:1427-1777921200-1777924800@www.ivmglobal.fi
SUMMARY:Hämeenlinna OBM
DESCRIPTION:You need to be logged in to view this content. Please Log In. Eikö sinulla ole tunnuksia? Luo tunnukset täällä
URL:https://www.ivmglobal.fi/event/hameenlinna-obm-12/
LOCATION:Janakkalan kunnantalo\, Juttilantie 1\, Janakkala\, Finland
CATEGORIES:OBM/NDO
END:VEVENT
BEGIN:VEVENT
DTSTART;TZID=Europe/Helsinki:20260505T190000
DTEND;TZID=Europe/Helsinki:20260505T200000
DTSTAMP:20260421T105513
CREATED:20260308T153122Z
LAST-MODIFIED:20260308T155441Z
UID:1423-1778007600-1778011200@www.ivmglobal.fi
SUMMARY:Tampere OBM
DESCRIPTION:You need to be logged in to view this content. Please Log In. Eikö sinulla ole tunnuksia? Luo tunnukset täällä
URL:https://www.ivmglobal.fi/event/tampere-obm-smaragdi-jari-hautamaki/
LOCATION:ABC Lahdesjärvi\, Automiehenkatu 39\, Tampere\, Finland
CATEGORIES:OBM/NDO
END:VEVENT
BEGIN:VEVENT
DTSTART;TZID=Europe/Helsinki:20260506T190000
DTEND;TZID=Europe/Helsinki:20260506T200000
DTSTAMP:20260421T105513
CREATED:20260308T155947Z
LAST-MODIFIED:20260308T155947Z
UID:1437-1778094000-1778097600@www.ivmglobal.fi
SUMMARY:Salo OBM
DESCRIPTION:You need to be logged in to view this content. Please Log In. Eikö sinulla ole tunnuksia? Luo tunnukset täällä
URL:https://www.ivmglobal.fi/event/salo-obm-9/
LOCATION:Salon VPK talo\, Asemakatu 3\, Salo\, Finland
CATEGORIES:OBM/NDO
END:VEVENT
BEGIN:VEVENT
DTSTART;TZID=Europe/Helsinki:20260512T190000
DTEND;TZID=Europe/Helsinki:20260512T200000
DTSTAMP:20260421T105513
CREATED:20260308T152749Z
LAST-MODIFIED:20260308T152749Z
UID:1419-1778612400-1778616000@www.ivmglobal.fi
SUMMARY:Helsinki OBM -sis. käynti Hollolantie 2
DESCRIPTION:You need to be logged in to view this content. Please Log In. Eikö sinulla ole tunnuksia? Luo tunnukset täällä
URL:https://www.ivmglobal.fi/event/helsinki-obm-sis-kaynti-hollolantie-2-4/
LOCATION:Mäkelän koulu (Helsinki)\, Hattulantie 2\, Helsinki\, Finland
CATEGORIES:OBM/NDO
END:VEVENT
BEGIN:VEVENT
DTSTART;TZID=Europe/Helsinki:20260513T190000
DTEND;TZID=Europe/Helsinki:20260513T210000
DTSTAMP:20260421T105513
CREATED:20260308T160617Z
LAST-MODIFIED:20260308T160617Z
UID:1447-1778698800-1778706000@www.ivmglobal.fi
SUMMARY:Raisio OBM+NDO - Smaragdi Terhi Laine
DESCRIPTION:You need to be logged in to view this content. Please Log In. Eikö sinulla ole tunnuksia? Luo tunnukset täällä
URL:https://www.ivmglobal.fi/event/raisio-obmndo-smaragdi-terhi-laine-3/
LOCATION:ABC Raisio\, Piilipuunkatu 2\, Piilipuunkatu 2\, Raisio\, Finland
CATEGORIES:OBM/NDO
END:VEVENT
BEGIN:VEVENT
DTSTART;TZID=Europe/Helsinki:20260513T190000
DTEND;TZID=Europe/Helsinki:20260513T210000
DTSTAMP:20260421T105513
CREATED:20260309T064033Z
LAST-MODIFIED:20260419T175655Z
UID:1461-1778698800-1778706000@www.ivmglobal.fi
SUMMARY:Vaasa OBM+NDO - Smaragdi Irma Lund
DESCRIPTION:You need to be logged in to view this content. Please Log In. Eikö sinulla ole tunnuksia? Luo tunnukset täällä
URL:https://www.ivmglobal.fi/event/vaasa-obm-6/
LOCATION:ABC Airport (Vaasa)\, Kiitokaari 2\, Vaasa
CATEGORIES:OBM/NDO
END:VEVENT
BEGIN:VEVENT
DTSTART;TZID=Europe/Helsinki:20260516T130000
DTEND;TZID=Europe/Helsinki:20260516T163000
DTSTAMP:20260421T105513
CREATED:20251014T093136Z
LAST-MODIFIED:20251014T094754Z
UID:551-1778936400-1778949000@www.ivmglobal.fi
SUMMARY:Toukokuun seminaari
DESCRIPTION:You need to be logged in to view this content. Please Log In. Eikö sinulla ole tunnuksia? Luo tunnukset täällä
URL:https://www.ivmglobal.fi/event/toukokuun-seminaari/
LOCATION:Mäkelän koulu (Helsinki)\, Hattulantie 2\, Helsinki\, Finland
CATEGORIES:Seminaari
END:VEVENT
BEGIN:VEVENT
DTSTART;TZID=Europe/Helsinki:20260518T190000
DTEND;TZID=Europe/Helsinki:20260518T200000
DTSTAMP:20260421T105513
CREATED:20260308T153547Z
LAST-MODIFIED:20260308T155411Z
UID:1429-1779130800-1779134400@www.ivmglobal.fi
SUMMARY:Hämeenlinna OBM
DESCRIPTION:You need to be logged in to view this content. Please Log In. Eikö sinulla ole tunnuksia? Luo tunnukset täällä
URL:https://www.ivmglobal.fi/event/hameenlinna-obm-13/
LOCATION:Janakkalan kunnantalo\, Juttilantie 1\, Janakkala\, Finland
CATEGORIES:OBM/NDO
END:VEVENT
BEGIN:VEVENT
DTSTART;TZID=Europe/Helsinki:20260519T190000
DTEND;TZID=Europe/Helsinki:20260519T210000
DTSTAMP:20260421T105513
CREATED:20260308T153312Z
LAST-MODIFIED:20260308T153312Z
UID:1425-1779217200-1779224400@www.ivmglobal.fi
SUMMARY:Tampere OBM+NDO - Smaragdit Anne & Janne Kekoni
DESCRIPTION:You need to be logged in to view this content. Please Log In. Eikö sinulla ole tunnuksia? Luo tunnukset täällä
URL:https://www.ivmglobal.fi/event/tampere-obmndo-smaragdit-anne-janne-kekoni/
LOCATION:ABC Lahdesjärvi\, Automiehenkatu 39\, Tampere\, Finland
CATEGORIES:OBM/NDO
END:VEVENT
BEGIN:VEVENT
DTSTART;TZID=Europe/Helsinki:20260520T190000
DTEND;TZID=Europe/Helsinki:20260520T200000
DTSTAMP:20260421T105513
CREATED:20260308T152605Z
LAST-MODIFIED:20260308T152605Z
UID:1417-1779303600-1779307200@www.ivmglobal.fi
SUMMARY:Oulu OBM
DESCRIPTION:You need to be logged in to view this content. Please Log In. Eikö sinulla ole tunnuksia? Luo tunnukset täällä
URL:https://www.ivmglobal.fi/event/oulu-obm-5/
LOCATION:ABC Tupos\, Tuposkorva 1\, Liminka\, Finland
CATEGORIES:OBM/NDO
END:VEVENT
BEGIN:VEVENT
DTSTART;TZID=Europe/Helsinki:20260520T190000
DTEND;TZID=Europe/Helsinki:20260520T210000
DTSTAMP:20260421T105513
CREATED:20260308T160100Z
LAST-MODIFIED:20260308T160100Z
UID:1439-1779303600-1779310800@www.ivmglobal.fi
SUMMARY:Salo OBM+NDO - Smaragdi Terhi Laine
DESCRIPTION:You need to be logged in to view this content. Please Log In. Eikö sinulla ole tunnuksia? Luo tunnukset täällä
URL:https://www.ivmglobal.fi/event/salo-obmndo-smaragdi-terhi-laine/
LOCATION:Salon VPK talo\, Asemakatu 3\, Salo\, Finland
CATEGORIES:OBM/NDO
END:VEVENT
BEGIN:VEVENT
DTSTART;TZID=Europe/Helsinki:20260526T190000
DTEND;TZID=Europe/Helsinki:20260526T210000
DTSTAMP:20260421T105513
CREATED:20260308T152930Z
LAST-MODIFIED:20260308T152930Z
UID:1421-1779822000-1779829200@www.ivmglobal.fi
SUMMARY:Helsinki OBM+NDO\, sis. käynti Hollolantie 2
DESCRIPTION:You need to be logged in to view this content. Please Log In. Eikö sinulla ole tunnuksia? Luo tunnukset täällä
URL:https://www.ivmglobal.fi/event/helsinki-obmndo-sis-kaynti-hollolantie-2/
LOCATION:Mäkelän koulu (Helsinki)\, Hattulantie 2\, Helsinki\, Finland
CATEGORIES:OBM/NDO
END:VEVENT
BEGIN:VEVENT
DTSTART;TZID=Europe/Helsinki:20260527T190000
DTEND;TZID=Europe/Helsinki:20260527T200000
DTSTAMP:20260421T105513
CREATED:20260308T160722Z
LAST-MODIFIED:20260308T160722Z
UID:1449-1779908400-1779912000@www.ivmglobal.fi
SUMMARY:Raisio OBM
DESCRIPTION:You need to be logged in to view this content. Please Log In. Eikö sinulla ole tunnuksia? Luo tunnukset täällä
URL:https://www.ivmglobal.fi/event/raisio-obm-9/
LOCATION:ABC Raisio\, Piilipuunkatu 2\, Piilipuunkatu 2\, Raisio\, Finland
CATEGORIES:OBM/NDO
END:VEVENT
BEGIN:VEVENT
DTSTART;TZID=Europe/Helsinki:20260527T190000
DTEND;TZID=Europe/Helsinki:20260527T200000
DTSTAMP:20260421T105513
CREATED:20260309T064142Z
LAST-MODIFIED:20260419T175746Z
UID:1463-1779908400-1779912000@www.ivmglobal.fi
SUMMARY:Vaasa OBM
DESCRIPTION:You need to be logged in to view this content. Please Log In. Eikö sinulla ole tunnuksia? Luo tunnukset täällä
URL:https://www.ivmglobal.fi/event/vaasa-obmndo-smaragdi-irma-lund-4/
LOCATION:ABC Airport (Vaasa)\, Kiitokaari 2\, Vaasa
CATEGORIES:OBM/NDO
END:VEVENT
BEGIN:VEVENT
DTSTART;TZID=Europe/Helsinki:20260528T190000
DTEND;TZID=Europe/Helsinki:20260528T200000
DTSTAMP:20260421T105513
CREATED:20260308T152438Z
LAST-MODIFIED:20260308T152438Z
UID:1415-1779994800-1779998400@www.ivmglobal.fi
SUMMARY:Kouvola OBM
DESCRIPTION:You need to be logged in to view this content. Please Log In. Eikö sinulla ole tunnuksia? Luo tunnukset täällä
URL:https://www.ivmglobal.fi/event/kouvola-obm-12/
LOCATION:Keltakankaan ABC\, Hallitie 2\, Kouvola\, Finland
CATEGORIES:OBM/NDO
END:VEVENT
BEGIN:VEVENT
DTSTART;TZID=Europe/Helsinki:20260603T190000
DTEND;TZID=Europe/Helsinki:20260603T200000
DTSTAMP:20260421T105513
CREATED:20260420T151335Z
LAST-MODIFIED:20260420T151335Z
UID:1513-1780513200-1780516800@www.ivmglobal.fi
SUMMARY:Salo OBM
DESCRIPTION:You need to be logged in to view this content. Please Log In. Eikö sinulla ole tunnuksia? Luo tunnukset täällä
URL:https://www.ivmglobal.fi/event/salo-obm-10/
LOCATION:Salon VPK talo\, Asemakatu 3\, Salo\, Finland
CATEGORIES:OBM/NDO
END:VEVENT
BEGIN:VEVENT
DTSTART;TZID=Europe/Helsinki:20260609T190000
DTEND;TZID=Europe/Helsinki:20260609T200000
DTSTAMP:20260421T105513
CREATED:20260420T150955Z
LAST-MODIFIED:20260420T151234Z
UID:1508-1781031600-1781035200@www.ivmglobal.fi
SUMMARY:Helsinki OBM - käynti Hollolantie 2
DESCRIPTION:You need to be logged in to view this content. Please Log In. Eikö sinulla ole tunnuksia? Luo tunnukset täällä
URL:https://www.ivmglobal.fi/event/helsinki-obm-5/
LOCATION:Mäkelän koulu (Helsinki)\, Hattulantie 2\, Helsinki\, Finland
CATEGORIES:OBM/NDO
END:VEVENT
BEGIN:VEVENT
DTSTART;TZID=Europe/Helsinki:20260610T190000
DTEND;TZID=Europe/Helsinki:20260610T200000
DTSTAMP:20260421T105513
CREATED:20260419T175917Z
LAST-MODIFIED:20260419T175917Z
UID:1503-1781118000-1781121600@www.ivmglobal.fi
SUMMARY:Vaasa OBM - Smaragdi Irma Lund
DESCRIPTION:You need to be logged in to view this content. Please Log In. Eikö sinulla ole tunnuksia? Luo tunnukset täällä
URL:https://www.ivmglobal.fi/event/vaasa-obm-smaragdi-irma-lund-5/
LOCATION:ABC Airport (Vaasa)\, Kiitokaari 2\, Vaasa
CATEGORIES:OBM/NDO
END:VEVENT
BEGIN:VEVENT
DTSTART;TZID=Europe/Helsinki:20260610T190000
DTEND;TZID=Europe/Helsinki:20260610T200000
DTSTAMP:20260421T105513
CREATED:20260420T151541Z
LAST-MODIFIED:20260420T151541Z
UID:1517-1781118000-1781121600@www.ivmglobal.fi
SUMMARY:Oulu OBM
DESCRIPTION:You need to be logged in to view this content. Please Log In. Eikö sinulla ole tunnuksia? Luo tunnukset täällä
URL:https://www.ivmglobal.fi/event/oulu-obm-6/
LOCATION:ABC Tupos\, Tuposkorva 1\, Liminka\, Finland
CATEGORIES:OBM/NDO
END:VEVENT
BEGIN:VEVENT
DTSTART;TZID=Europe/Helsinki:20260610T190000
DTEND;TZID=Europe/Helsinki:20260610T200000
DTSTAMP:20260421T105513
CREATED:20260420T151857Z
LAST-MODIFIED:20260420T151857Z
UID:1523-1781118000-1781121600@www.ivmglobal.fi
SUMMARY:Raisio OBM
DESCRIPTION:You need to be logged in to view this content. Please Log In. Eikö sinulla ole tunnuksia? Luo tunnukset täällä
URL:https://www.ivmglobal.fi/event/raisio-obm-10/
LOCATION:ABC Raisio\, Piilipuunkatu 2\, Piilipuunkatu 2\, Raisio\, Finland
CATEGORIES:OBM/NDO
END:VEVENT
BEGIN:VEVENT
DTSTART;TZID=Europe/Helsinki:20260611T190000
DTEND;TZID=Europe/Helsinki:20260611T200000
DTSTAMP:20260421T105513
CREATED:20260420T152229Z
LAST-MODIFIED:20260420T152229Z
UID:1527-1781204400-1781208000@www.ivmglobal.fi
SUMMARY:Kouvola OBM
DESCRIPTION:You need to be logged in to view this content. Please Log In. Eikö sinulla ole tunnuksia? Luo tunnukset täällä
URL:https://www.ivmglobal.fi/event/kouvola-obm-13/
LOCATION:Keltakankaan ABC\, Hallitie 2\, Kouvola\, Finland
CATEGORIES:OBM/NDO
END:VEVENT
END:VCALENDAR